BEGIN:VCALENDAR
VERSION:2.0
PRODID:-//Cedar Key Arts Center - ECPv6.15.17//NONSGML v1.0//EN
CALSCALE:GREGORIAN
METHOD:PUBLISH
X-WR-CALNAME:Cedar Key Arts Center
X-ORIGINAL-URL:https://cedarkeyartscenter.org
X-WR-CALDESC:Events for Cedar Key Arts Center
REFRESH-INTERVAL;VALUE=DURATION:PT1H
X-Robots-Tag:noindex
X-PUBLISHED-TTL:PT1H
BEGIN:VTIMEZONE
TZID:America/New_York
BEGIN:DAYLIGHT
TZOFFSETFROM:-0500
TZOFFSETTO:-0400
TZNAME:EDT
DTSTART:20250309T070000
END:DAYLIGHT
BEGIN:STANDARD
TZOFFSETFROM:-0400
TZOFFSETTO:-0500
TZNAME:EST
DTSTART:20251102T060000
END:STANDARD
BEGIN:DAYLIGHT
TZOFFSETFROM:-0500
TZOFFSETTO:-0400
TZNAME:EDT
DTSTART:20260308T070000
END:DAYLIGHT
BEGIN:STANDARD
TZOFFSETFROM:-0400
TZOFFSETTO:-0500
TZNAME:EST
DTSTART:20261101T060000
END:STANDARD
BEGIN:DAYLIGHT
TZOFFSETFROM:-0500
TZOFFSETTO:-0400
TZNAME:EDT
DTSTART:20270314T070000
END:DAYLIGHT
BEGIN:STANDARD
TZOFFSETFROM:-0400
TZOFFSETTO:-0500
TZNAME:EST
DTSTART:20271107T060000
END:STANDARD
END:VTIMEZONE
BEGIN:VEVENT
DTSTART;TZID=America/New_York:20260330T100000
DTEND;TZID=America/New_York:20260330T130000
DTSTAMP:20260421T163357
CREATED:20260306T192131Z
LAST-MODIFIED:20260306T192501Z
UID:4339-1774864800-1774875600@cedarkeyartscenter.org
SUMMARY:Concrete Leaves with Gloria Altonen
DESCRIPTION:Create a concrete leaf from a fresh cut leaf. All materials will be provided. You may bring your own leaf if have a preference. \nClass Size:  Minimum – 5\, Maximum 15 \nInstructor Fee: $40 ($45 non-members)\, Supply Fee: $15 \nClass will be held at 6831 SW 103 Terrace (Near Cedars Airfield) \nLunch will be provided.
URL:https://cedarkeyartscenter.org/event/concrete-leaves-with-gloria-altonen/
CATEGORIES:Workshops
ATTACH;FMTTYPE=image/jpeg:https://cedarkeyartscenter.org/wp-content/uploads/Concrete-Leaves.jpg
END:VEVENT
BEGIN:VEVENT
DTSTART;TZID=America/New_York:20260331T100000
DTEND;TZID=America/New_York:20260331T130000
DTSTAMP:20260421T163357
CREATED:20260306T191944Z
LAST-MODIFIED:20260306T192501Z
UID:4334-1774951200-1774962000@cedarkeyartscenter.org
SUMMARY:Paint Canvas Floor cloths with Carroll Swayze Day 2
DESCRIPTION:3/30-31 \n10am – 1 pm \nDeadline for registration 3/20/26 \nUsing chalk\, markers and line\, learn the basics of laying out and designing 2 different floor cloths to be used in your home. \nClass include creating and finishing edges and applying sealant to protect them. \nMinimum 8 students/ maximum 15 \nClass fee $80.00 members\, $85.00 non-members\, $20 materials fee.
URL:https://cedarkeyartscenter.org/event/paint-canvas-floor-cloths-with-carroll-swayze-day-2/
CATEGORIES:Workshops
ATTACH;FMTTYPE=image/jpeg:https://cedarkeyartscenter.org/wp-content/uploads/Paint-Canvas-Floor-cloths.jpg
END:VEVENT
BEGIN:VEVENT
DTSTART;TZID=America/New_York:20260404T170000
DTEND;TZID=America/New_York:20260404T190000
DTSTAMP:20260421T163357
CREATED:20260420T174315Z
LAST-MODIFIED:20260420T175131Z
UID:4361-1775322000-1775329200@cedarkeyartscenter.org
SUMMARY:Cedar Key Arts Center
DESCRIPTION:
URL:https://cedarkeyartscenter.org/event/cedar-key-arts-center/
CATEGORIES:Events
ATTACH;FMTTYPE=image/png:https://cedarkeyartscenter.org/wp-content/uploads/April-poster-final.png
END:VEVENT
BEGIN:VEVENT
DTSTART;TZID=America/New_York:20260427T080000
DTEND;TZID=America/New_York:20260428T170000
DTSTAMP:20260421T163357
CREATED:20260420T174621Z
LAST-MODIFIED:20260420T174836Z
UID:4363-1777276800-1777395600@cedarkeyartscenter.org
SUMMARY:May Member’s Show Application
DESCRIPTION:Items will need to be dropped off on 4/27 and 4/28. Show opens May 2nd. Great opportunity to make some spending money and more importantly to support the Arts Center. \nClick Here to Download Application
URL:https://cedarkeyartscenter.org/event/may-members-show-application/
CATEGORIES:Events
ATTACH;FMTTYPE=image/jpeg:https://cedarkeyartscenter.org/wp-content/uploads/1-CKAC-Home-page-pic-scaled.jpg
END:VEVENT
END:VCALENDAR