BEGIN:VCALENDAR
VERSION:2.0
PRODID:-//Cedar Key Arts Center - ECPv6.15.17//NONSGML v1.0//EN
CALSCALE:GREGORIAN
METHOD:PUBLISH
X-ORIGINAL-URL:https://cedarkeyartscenter.org
X-WR-CALDESC:Events for Cedar Key Arts Center
REFRESH-INTERVAL;VALUE=DURATION:PT1H
X-Robots-Tag:noindex
X-PUBLISHED-TTL:PT1H
BEGIN:VTIMEZONE
TZID:America/New_York
BEGIN:DAYLIGHT
TZOFFSETFROM:-0500
TZOFFSETTO:-0400
TZNAME:EDT
DTSTART:20250309T070000
END:DAYLIGHT
BEGIN:STANDARD
TZOFFSETFROM:-0400
TZOFFSETTO:-0500
TZNAME:EST
DTSTART:20251102T060000
END:STANDARD
BEGIN:DAYLIGHT
TZOFFSETFROM:-0500
TZOFFSETTO:-0400
TZNAME:EDT
DTSTART:20260308T070000
END:DAYLIGHT
BEGIN:STANDARD
TZOFFSETFROM:-0400
TZOFFSETTO:-0500
TZNAME:EST
DTSTART:20261101T060000
END:STANDARD
BEGIN:DAYLIGHT
TZOFFSETFROM:-0500
TZOFFSETTO:-0400
TZNAME:EDT
DTSTART:20270314T070000
END:DAYLIGHT
BEGIN:STANDARD
TZOFFSETFROM:-0400
TZOFFSETTO:-0500
TZNAME:EST
DTSTART:20271107T060000
END:STANDARD
END:VTIMEZONE
BEGIN:VEVENT
DTSTART;TZID=America/New_York:20260303T100000
DTEND;TZID=America/New_York:20260303T130000
DTSTAMP:20260421T143551
CREATED:20260306T164957Z
LAST-MODIFIED:20260306T192519Z
UID:4314-1772532000-1772542800@cedarkeyartscenter.org
SUMMARY:Sewing and Quilting help with Bunny Hand
DESCRIPTION:Bring any project you want to work on to receive help and encouragement! \nMinimum enrollment: 2 \nMaximum: 8 \nClass Fee: $15.00 for CKAC members\, $20.00 for non-members
URL:https://cedarkeyartscenter.org/event/sewing-and-quilting-help-with-bunny-hand/
CATEGORIES:Workshops
ATTACH;FMTTYPE=image/jpeg:https://cedarkeyartscenter.org/wp-content/uploads/Sewing-and-Quilting-.jpg
END:VEVENT
BEGIN:VEVENT
DTSTART;TZID=America/New_York:20260304T100000
DTEND;TZID=America/New_York:20260304T130000
DTSTAMP:20260421T143551
CREATED:20260306T165129Z
LAST-MODIFIED:20260306T192519Z
UID:4316-1772618400-1772629200@cedarkeyartscenter.org
SUMMARY:Acrylics as Watercolors With Carroll Swayze Day 1
DESCRIPTION:3/4 and 3/5\n10 am – 1 pm\nDeadline for registration 2/20/26 Learn the basics of using acrylics as watercolors on paper using brushes and lots of water to create wet on wet technique usually reserved for watercolorists. \nMinimum 8 students/maximum 20 students \nClass fee $80.00 members/$85.00 non-member \n$10.00 materials fee
URL:https://cedarkeyartscenter.org/event/acrylics-as-watercolors-with-carroll-swayze/
CATEGORIES:Workshops
ATTACH;FMTTYPE=image/jpeg:https://cedarkeyartscenter.org/wp-content/uploads/Acrylics-as-Watercolors.jpg
END:VEVENT
BEGIN:VEVENT
DTSTART;TZID=America/New_York:20260305T100000
DTEND;TZID=America/New_York:20260305T130000
DTSTAMP:20260421T143551
CREATED:20260306T165141Z
LAST-MODIFIED:20260306T192519Z
UID:4318-1772704800-1772715600@cedarkeyartscenter.org
SUMMARY:Acrylics as Watercolors With Carroll Swayze Day 2
DESCRIPTION:3/4 and 3/5\n10 am – 1 pm\nDeadline for registration 2/20/26 Learn the basics of using acrylics as watercolors on paper using brushes and lots of water to create wet on wet technique usually reserved for watercolorists. \nMinimum 8 students/maximum 20 students \nClass fee $80.00 members/$85.00 non-member \n$10.00 materials fee
URL:https://cedarkeyartscenter.org/event/acrylics-as-watercolors-with-carroll-swayze-day-2/
CATEGORIES:Workshops
ATTACH;FMTTYPE=image/jpeg:https://cedarkeyartscenter.org/wp-content/uploads/Acrylics-as-Watercolors.jpg
END:VEVENT
BEGIN:VEVENT
DTSTART;TZID=America/New_York:20260311T100000
DTEND;TZID=America/New_York:20260311T160000
DTSTAMP:20260421T143551
CREATED:20260306T165242Z
LAST-MODIFIED:20260306T192501Z
UID:4320-1773223200-1773244800@cedarkeyartscenter.org
SUMMARY:Windchimes with Gloria Altonen
DESCRIPTION:All materials will be provided to complete a 3-strand wind chime using beach glass.  \nPlease feel free to bring any special beads or charms you might want to include in your chime. \nClass Size: Min 5\, \nMax 12. \nCost: $45 members\, $50 non-members \nSupply Fee is $15
URL:https://cedarkeyartscenter.org/event/windchimes-with-gloria-altonen/
CATEGORIES:Workshops
ATTACH;FMTTYPE=image/jpeg:https://cedarkeyartscenter.org/wp-content/uploads/Windchimes-.jpg
END:VEVENT
BEGIN:VEVENT
DTSTART;TZID=America/New_York:20260317T100000
DTEND;TZID=America/New_York:20260317T130000
DTSTAMP:20260421T143551
CREATED:20260306T165438Z
LAST-MODIFIED:20260306T192501Z
UID:4324-1773741600-1773752400@cedarkeyartscenter.org
SUMMARY:Psanka with Lena  Ukrainian Egg Design
DESCRIPTION:Design your own Pysanka Egg using the resist batik method. \nYou will create multiple intricate geometric and floral designs on egg shells. \nDuring the class students will learn the proper and safe use of bees wax\, stylus\, dyes\, and candles. \nMinimum enrollment: 3 \nMaximum: 6 \nClass Fee: $30 for CKAC members\, $35 for non-members All supplies are included.
URL:https://cedarkeyartscenter.org/event/psanka-with-lena-ukrainian-egg-design/
CATEGORIES:Workshops
ATTACH;FMTTYPE=image/jpeg:https://cedarkeyartscenter.org/wp-content/uploads/Ukrainian-Egg.jpg
END:VEVENT
BEGIN:VEVENT
DTSTART;TZID=America/New_York:20260317T170000
DTEND;TZID=America/New_York:20260317T190000
DTSTAMP:20260421T143551
CREATED:20260306T165339Z
LAST-MODIFIED:20260306T192501Z
UID:4322-1773766800-1773774000@cedarkeyartscenter.org
SUMMARY:Sandy shells  Decoupage
DESCRIPTION:Decoupage shells with Sandy Witcher to create your own trinket trays\, jewelry\, or home decor in this fun craft using napkins & Mod Podge.  \nAll materials are provided in $25 class fee for members\, $30 for non- members and there is space for 20 participants\, so bring a friend!
URL:https://cedarkeyartscenter.org/event/sandy-shells-decoupage/
CATEGORIES:Workshops
ATTACH;FMTTYPE=image/jpeg:https://cedarkeyartscenter.org/wp-content/uploads/Sandy-shells.jpg
END:VEVENT
BEGIN:VEVENT
DTSTART;TZID=America/New_York:20260319T160000
DTEND;TZID=America/New_York:20260319T190000
DTSTAMP:20260421T143551
CREATED:20260306T165540Z
LAST-MODIFIED:20260306T192501Z
UID:4326-1773936000-1773946800@cedarkeyartscenter.org
SUMMARY:Wine Cork jewelry holder with Darlene
DESCRIPTION:Enjoy fellowship over a glass of wine as you create a cork jewelry holder or basket with Dartini.  \nMinimum: 6 \nMax. 12 \n$25 for members\, $30 non-members \nAll supplies\, including wine\, will be provided\, but you can bring a hot glue gun if you have one handy!
URL:https://cedarkeyartscenter.org/event/wine-cork-jewelry-holder-with-darlene/
CATEGORIES:Workshops
ATTACH;FMTTYPE=image/png:https://cedarkeyartscenter.org/wp-content/uploads/Wine-Cork-jewelry.png
END:VEVENT
BEGIN:VEVENT
DTSTART;TZID=America/New_York:20260321T100000
DTEND;TZID=America/New_York:20260321T160000
DTSTAMP:20260421T143551
CREATED:20260306T191801Z
LAST-MODIFIED:20260306T192501Z
UID:4330-1774087200-1774108800@cedarkeyartscenter.org
SUMMARY:Rachelle Vance photography
DESCRIPTION:“Photography Workshop”\, with a PowerPoint that includes photos and discussions on Landscape\, Pet and People Portrait\, Long Exposure Techniques\, and Creative Bird Photography. \nTwo hour workshop\, one-hour presentation with photos & camera settings\, and one hour open to Q & A. \n$25.00 for members\, $30 for non-members. Max 20 students \nI only offer ONE photography workshop annually\, and at this time I am exclusive to the Art Center in Cedar Key.
URL:https://cedarkeyartscenter.org/event/rachelle-vance-photography/
CATEGORIES:Workshops
ATTACH;FMTTYPE=image/jpeg:https://cedarkeyartscenter.org/wp-content/uploads/Rachelle-Vance-photography.jpg
END:VEVENT
BEGIN:VEVENT
DTSTART;TZID=America/New_York:20260328T100000
DTEND;TZID=America/New_York:20260328T120000
DTSTAMP:20260421T143551
CREATED:20260306T194840Z
LAST-MODIFIED:20260306T194840Z
UID:4345-1774692000-1774699200@cedarkeyartscenter.org
SUMMARY:Pop-Up Workshop at the CKAC
DESCRIPTION:As you may know the theme for this year’s Old Florida Celebration of the Arts April 11 & 12 is “Stars of Cedar Key.” We though it would be fun to paint some stars to hang around the Sculpture Garden before the festival. When the weekend is over\, you are welcome to pick up your star(s) and take them home or you can donate them for sale at the May CKAC Member’s Art Sale. \nPlease Sign Up at the Keyhole\, we can accommodate up to 18 people. $10 donation to CKAC would be graciously accepted😊 \n12” prepped wooden stars will be provided and acrylic paints will be available. Get psyched for festival and join some like minded artistic friends as we bring some Stars of Cedar Key to the Cedar Key  Arts Center Sculpture Garden. \nQuestions: Contact Bev Ringenberg (541-517-0402) or Ann Kamzelski (570-787-0398) \n 
URL:https://cedarkeyartscenter.org/event/pop-up-workshop-at-the-ckac/
CATEGORIES:Workshops
ATTACH;FMTTYPE=image/png:https://cedarkeyartscenter.org/wp-content/uploads/img_69ab2f6d55a95.png
END:VEVENT
BEGIN:VEVENT
DTSTART;TZID=America/New_York:20260330T100000
DTEND;TZID=America/New_York:20260330T130000
DTSTAMP:20260421T143551
CREATED:20260306T191920Z
LAST-MODIFIED:20260306T192501Z
UID:4332-1774864800-1774875600@cedarkeyartscenter.org
SUMMARY:Paint Canvas Floor cloths with Carroll Swayze Day 1
DESCRIPTION:3/30-31 \n10am – 1 pm \nDeadline for registration 3/20/26 \nUsing chalk\, markers and line\, learn the basics of laying out and designing 2 different floor cloths to be used in your home. \nClass include creating and finishing edges and applying sealant to protect them. \nMinimum 8 students/ maximum 15 \nClass fee $80.00 members\, $85.00 non-members\, $20 materials fee.
URL:https://cedarkeyartscenter.org/event/paint-canvas-floor-cloths-with-carroll-swayze-day-1/
CATEGORIES:Workshops
ATTACH;FMTTYPE=image/jpeg:https://cedarkeyartscenter.org/wp-content/uploads/Paint-Canvas-Floor-cloths.jpg
END:VEVENT
BEGIN:VEVENT
DTSTART;TZID=America/New_York:20260330T100000
DTEND;TZID=America/New_York:20260330T130000
DTSTAMP:20260421T143551
CREATED:20260306T192131Z
LAST-MODIFIED:20260306T192501Z
UID:4339-1774864800-1774875600@cedarkeyartscenter.org
SUMMARY:Concrete Leaves with Gloria Altonen
DESCRIPTION:Create a concrete leaf from a fresh cut leaf. All materials will be provided. You may bring your own leaf if have a preference. \nClass Size:  Minimum – 5\, Maximum 15 \nInstructor Fee: $40 ($45 non-members)\, Supply Fee: $15 \nClass will be held at 6831 SW 103 Terrace (Near Cedars Airfield) \nLunch will be provided.
URL:https://cedarkeyartscenter.org/event/concrete-leaves-with-gloria-altonen/
CATEGORIES:Workshops
ATTACH;FMTTYPE=image/jpeg:https://cedarkeyartscenter.org/wp-content/uploads/Concrete-Leaves.jpg
END:VEVENT
BEGIN:VEVENT
DTSTART;TZID=America/New_York:20260331T100000
DTEND;TZID=America/New_York:20260331T130000
DTSTAMP:20260421T143551
CREATED:20260306T191944Z
LAST-MODIFIED:20260306T192501Z
UID:4334-1774951200-1774962000@cedarkeyartscenter.org
SUMMARY:Paint Canvas Floor cloths with Carroll Swayze Day 2
DESCRIPTION:3/30-31 \n10am – 1 pm \nDeadline for registration 3/20/26 \nUsing chalk\, markers and line\, learn the basics of laying out and designing 2 different floor cloths to be used in your home. \nClass include creating and finishing edges and applying sealant to protect them. \nMinimum 8 students/ maximum 15 \nClass fee $80.00 members\, $85.00 non-members\, $20 materials fee.
URL:https://cedarkeyartscenter.org/event/paint-canvas-floor-cloths-with-carroll-swayze-day-2/
CATEGORIES:Workshops
ATTACH;FMTTYPE=image/jpeg:https://cedarkeyartscenter.org/wp-content/uploads/Paint-Canvas-Floor-cloths.jpg
END:VEVENT
END:VCALENDAR